BEGIN:VCALENDAR
VERSION:2.0
PRODID:-//Nantucket Community Music Center Portal - ECPv5.5.0.1//NONSGML v1.0//EN
CALSCALE:GREGORIAN
METHOD:PUBLISH
X-WR-CALNAME:Nantucket Community Music Center Portal
X-ORIGINAL-URL:https://membersnantucketcommunitymusiccenter.org
X-WR-CALDESC:Events for Nantucket Community Music Center Portal
BEGIN:VTIMEZONE
TZID:UTC
BEGIN:STANDARD
TZOFFSETFROM:+0000
TZOFFSETTO:+0000
TZNAME:UTC
DTSTART:20200101T000000
END:STANDARD
END:VTIMEZONE
BEGIN:VEVENT
DTSTART;TZID=UTC:20200929T080000
DTEND;TZID=UTC:20200929T080000
DTSTAMP:20260421T040058
CREATED:20200830T034035Z
LAST-MODIFIED:20200830T034035Z
UID:1109-1601366400-1601366400@membersnantucketcommunitymusiccenter.org
SUMMARY:test event
DESCRIPTION:a few words about this event…
URL:https://membersnantucketcommunitymusiccenter.org/event/test-event/
LOCATION:best venue\, nantucket\, MA
ATTACH;FMTTYPE=image/jpeg:https://membersnantucketcommunitymusiccenter.org/wp-content/uploads/2016/05/image-2.jpg
END:VEVENT
END:VCALENDAR